Workbook

Sheet (初)実施機関保管用 ・市提出用
T2: 出雲市（320036）
A3: 【出雲市国民健康保険】 | R3: 実施機関保管用／市提出用
A4: 特定保健指導【動機付け支援】 初回面接記録票
A6: 氏 名 | M6: 性別 | P6: 生年月日 | W6: （ | Z6: 歳）
A9: 住 所 | E9: 出雲市
A10: 電話番号
A11: 実施機関名
A12: 《健診時の状況》
A13: 健診実施日 | E13: 身長 | I13: 体重 | N13: 腹囲 | R13: BMI | V13: 血圧
G14: cm | L14: kg | Q14: cm | R14: =IFERROR(I14/(E14/100)^2,"") | W14: ／ | Z14: mmHg
A15: 《初回面接》
A16: 面接実施日 | K16: 支援時間 | S16: 分
A17: 状況 | B17: 【食生活】
B22: 【生活活動・運動】
B27: 【その他（喫煙・飲酒など）】
A33: 行動変容ステージ | F33: □ | G33: 無関心期 | K33: □ | L33: 関心期 | O33: □ | P33: 準備期 | S33: □ | T33: 実行期 | V33: □ | W33: 維持期
A35: 説明 | F35: □ | G35: 健診結果の見方
A37: 改善ポイント・行動目標等 | B37: □ | D37: 食生活
B38: □ | D38: 運動
B39: □ | D39: 喫煙
B40: □ | D40: 飲酒
B41: □ | D41: その他
A43: 指導者名・職種 | P43: ・ | Q43: （ | V43: ）
A45: 面接時の状況等市への連絡事項

Sheet (初)利用者控え
T2: 出雲市（320036）
A3: 【出雲市国民健康保険】 | R3: 利用者控え
A4: 特定保健指導【動機付け支援】 初回面接記録票
A6: 氏 名 | E6: ='(初)実施機関保管用 ・市提出用'!E6 -> 0 | M6: 性別 | P6: 生年月日 | R6: ='(初)実施機関保管用 ・市提出用'!R6 -> 0 | W6: （ | X6: ='(初)実施機関保管用 ・市提出用'!X6 -> 0 | Z6: 歳）
M7: ='(初)実施機関保管用 ・市提出用'!M7 -> 0
A9: 住 所 | E9: 出雲市 | G9: ='(初)実施機関保管用 ・市提出用'!G9 -> 0
A10: 電話番号 | E10: ='(初)実施機関保管用 ・市提出用'!E10 -> 0
A11: 実施機関名 | E11: ='(初)実施機関保管用 ・市提出用'!E11 -> 0
A12: 《健診時の状況》
A13: 健診実施日 | E13: 身長 | I13: 体重 | N13: 腹囲 | R13: BMI | V13: 血圧
A14: ='(初)実施機関保管用 ・市提出用'!A14 -> 0 | E14: ='(初)実施機関保管用 ・市提出用'!E14 -> 0 | G14: cm | I14: ='(初)実施機関保管用 ・市提出用'!I14 -> 0 | L14: kg | N14: ='(初)実施機関保管用 ・市提出用'!N14 -> 0 | Q14: cm | R14: ='(初)実施機関保管用 ・市提出用'!R14 | V14: ='(初)実施機関保管用 ・市提出用'!V14 -> 0 | W14: ／ | X14: ='(初)実施機関保管用 ・市提出用'!X14 -> 0 | Z14: mmHg
A15: 《初回面接》
A16: 面接実施日 | E16: ='(初)実施機関保管用 ・市提出用'!E16 -> 0 | K16: 支援時間 | P16: ='(初)実施機関保管用 ・市提出用'!P16 -> 0 | S16: 分
A17: 状況 | B17: 【食生活】
B18: ='(初)実施機関保管用 ・市提出用'!B18 -> 0
B22: 【生活活動・運動】
B23: ='(初)実施機関保管用 ・市提出用'!B23 -> 0
B27: 【その他（喫煙・飲酒など）】
B28: ='(初)実施機関保管用 ・市提出用'!B28 -> 0
A33: 行動変容ステージ | F33: ='(初)実施機関保管用 ・市提出用'!F33 -> □ | G33: 無関心期 | K33: ='(初)実施機関保管用 ・市提出用'!K33 -> □ | L33: 関心期 | O33: ='(初)実施機関保管用 ・市提出用'!O33 -> □ | P33: 準備期 | S33: ='(初)実施機関保管用 ・市提出用'!S33 -> □ | T33: 実行期 | V33: ='(初)実施機関保管用 ・市提出用'!V33 -> □ | W33: 維持期
A35: 説明 | F35: ='(初)実施機関保管用 ・市提出用'!F35 -> □ | G35: 健診結果の見方
A37: 改善ポイント・行動目標等 | B37: ='(初)実施機関保管用 ・市提出用'!B37 -> □ | D37: 食生活 | F37: ='(初)実施機関保管用 ・市提出用'!F37 -> 0
B38: ='(初)実施機関保管用 ・市提出用'!B38 -> □ | D38: 運動 | F38: ='(初)実施機関保管用 ・市提出用'!F38 -> 0
B39: ='(初)実施機関保管用 ・市提出用'!B39 -> □ | D39: 喫煙 | F39: ='(初)実施機関保管用 ・市提出用'!F39 -> 0
B40: ='(初)実施機関保管用 ・市提出用'!B40 -> □ | D40: 飲酒 | F40: ='(初)実施機関保管用 ・市提出用'!F40 -> 0
B41: ='(初)実施機関保管用 ・市提出用'!B41 -> □ | D41: その他 | F41: ='(初)実施機関保管用 ・市提出用'!F41 -> 0
A43: 指導者名・職種 | F43: ='(初)実施機関保管用 ・市提出用'!F43 -> 0 | P43: ・ | Q43: （ | R43: ='(初)実施機関保管用 ・市提出用'!R43 -> 0 | V43: ）

Sheet (初)記入例
T2: 出雲市（320036）
A3: 【出雲市国民健康保険】 | R3: 実施機関保管用／市提出用
A4: 特定保健指導【動機付け支援】 初回面接記録票
A6: 氏 名 | E6: 出雲 太郎 | M6: 性別 | P6: 生年月日 | R6: 26207 | W6: （ | X6: =DATEDIF(R6,$E$16,"Y") -> 54 | Z6: 歳）
M7: 男
A9: 住 所 | E9: 出雲市 | G9: 今市町７０番地
A10: 電話番号 | E10: 0853-21-6979
A11: 実施機関名 | E11: ○○医院
A12: 《健診時の状況》
A13: 健診実施日 | E13: 身長 | I13: 体重 | N13: 腹囲 | R13: BMI | V13: 血圧
A14: 46235 | E14: 174.5 | G14: cm | I14: 88 | L14: kg | N14: 96 | Q14: cm | R14: =I14/(E14/100)^2 -> 28.899599 | V14: 142 | W14: ／ | X14: 77 | Z14: mmHg
A15: 《初回面接》
A16: 面接実施日 | E16: 46274 | K16: 支援時間 | P16: 20 | S16: 分
A17: 状況 | B17: 【食生活】
B18: ごはんの量が多い（１杯約３００ｇ）。野菜の摂取量が少ない。 間食の回数が多い。 食べる速度が速い。
B22: 【生活活動・運動】
B23: 運動習慣がない。1日の歩数が4000歩前後。
B27: 【その他（喫煙・飲酒など）】
A33: 行動変容ステージ | F33: □ | G33: 無関心期 | K33: ☑ | L33: 関心期 | O33: □ | P33: 準備期 | S33: □ | T33: 実行期 | V33: □ | W33: 維持期
A35: 説明 | F35: ☑ | G35: 健診結果の見方
A37: 改善ポイント・行動目標等 | B37: ☑ | D37: 食生活 | F37: ご飯を１杯200ｇにする。毎食野菜を食べる。 間食は午前１回１品とする。
B38: ☑ | D38: 運動 | F38: ウォーキングを３０分間、週３回する。
B39: □ | D39: 喫煙
B40: ☑ | D40: 飲酒 | F40: 週１回の休肝日を作る。
B41: ☑ | D41: その他 | F41: 体重、血圧を毎日測定し記録する。
A43: 指導者名・職種 | F43: 島根 太郎 | P43: ・ | Q43: （ | R43: 医師 | V43: ）
A45: 面接時の状況等市への連絡事項

Sheet (評)実施機関保管用・市提出用
T2: 出雲市（320036）
A3: 【出雲市国民健康保険】 | R3: 実施機関保管用／市提出用
A4: 特定保健指導【動機付け支援】 評価票
A6: 氏 名 | M6: 性別 | P6: 生年月日 | W6: （ | Z6: 歳）
A9: 住 所 | E9: 出雲市
A10: 電話番号
A11: 実施機関名
A13: 《健診時の状況》
A14: 健診実施日 | E14: 身長 | I14: 体重 | N14: 腹囲 | R14: BMI | V14: 血圧
G15: cm | L15: kg | Q15: cm | R15: =IFERROR(I15/(E15/100)^2,"") | W15: ／ | Z15: mmHg
A17: 《評価》
A18: 評価実施日
A19: 計測値 | F19: 体重 ※記載必須 | M19: 腹囲 ※記載必須 | R19: BMI | V19: 血圧
J20: kg | P20: cm | R20: =IFERROR(F20/(E15/100)^2,"") | W20: ／ | Z20: ㎜Hg
A21: 生活改善状況 | B21: 栄養・食生活
B24: 【 | E24: 】
B26: 身体活動・運動
B29: 【 | E29: 】
B31: 喫煙
B33: 【 | E33: 】
A37: 指導者コメント
A44: 指導者名・職種 | P44: ・ | Q44: （ | V44: ）
A46: 面接時の状況等市への連絡事項

Sheet (評)利用者控え
T2: 出雲市（320036）
A3: 【出雲市国民健康保険】 | R3: 実施機関保管用／市提出用
A4: 特定保健指導【動機付け支援】 評価票
A6: 氏 名 | E6: ='(評)実施機関保管用・市提出用'!E6 -> 0 | M6: 性別 | P6: 生年月日 | R6: ='(評)実施機関保管用・市提出用'!R6 -> 0 | W6: （ | X6: ='(評)実施機関保管用・市提出用'!X6 -> 0 | Z6: 歳）
M7: ='(評)実施機関保管用・市提出用'!M7 -> 0
A9: 住 所 | E9: 出雲市 | G9: ='(評)実施機関保管用・市提出用'!G9 -> 0
A10: 電話番号 | E10: ='(評)実施機関保管用・市提出用'!E10 -> 0
A11: 実施機関名 | E11: ='(評)実施機関保管用・市提出用'!E11 -> 0
A13: 《健診時の状況》
A14: 健診実施日 | E14: 身長 | I14: 体重 | N14: 腹囲 | R14: BMI | V14: 血圧
A15: ='(評)実施機関保管用・市提出用'!A15 -> 0 | E15: ='(評)実施機関保管用・市提出用'!E15 -> 0 | G15: cm | I15: ='(評)実施機関保管用・市提出用'!I15 -> 0 | L15: kg | N15: ='(評)実施機関保管用・市提出用'!N15 -> 0 | Q15: cm | R15: =I15/(E15/100)^2 -> #DIV/0! | V15: ='(評)実施機関保管用・市提出用'!V15 -> 0 | W15: ／ | X15: ='(評)実施機関保管用・市提出用'!X15 -> 0 | Z15: mmHg
A17: 《評価》
A18: 評価実施日 | E18: ='(評)実施機関保管用・市提出用'!E18 -> 0
A19: 計測値 | F19: 体重 ※記載必須 | M19: 腹囲 ※記載必須 | R19: BMI | V19: 血圧
F20: ='(評)実施機関保管用・市提出用'!F20 -> 0 | J20: kg | M20: ='(評)実施機関保管用・市提出用'!M20 -> 0 | P20: cm | R20: =F20/(E15/100)^2 -> #DIV/0! | V20: ='(評)実施機関保管用・市提出用'!V20 -> 0 | W20: ／ | X20: ='(評)実施機関保管用・市提出用'!X20 -> 0 | Z20: ㎜Hg
A21: 生活改善状況 | B21: 栄養・食生活 | F21: ='(評)実施機関保管用・市提出用'!F21 -> 0
B26: 身体活動・運動 | F26: ='(評)実施機関保管用・市提出用'!F26 -> 0
B31: 喫煙 | F31: ='(評)実施機関保管用・市提出用'!F31 -> 0
B33: 【 | C33: ='(評)実施機関保管用・市提出用'!C33 -> 0 | E33: 】
A37: 指導者コメント | B37: ='(評)実施機関保管用・市提出用'!B37 -> 0
A44: 指導者名・職種 | F44: ='(評)実施機関保管用・市提出用'!F44 -> 0 | P44: ・ | Q44: （ | R44: ='(評)実施機関保管用・市提出用'!R44 -> 0 | V44: ）

Sheet (評)記入例
T2: 出雲市（320036）
A3: 【出雲市国民健康保険】 | R3: 実施機関保管用／市提出用
A4: 特定保健指導【動機付け支援】 評価票
A6: 氏 名 | E6: 出雲 太郎 | M6: 性別 | P6: 生年月日 | R6: 26207 | W6: （ | X6: =DATEDIF(R6,$E$18,"Y") -> 55 | Z6: 歳）
M7: 男
A9: 住 所 | E9: 出雲市 | G9: 今市町70番地
A10: 電話番号 | E10: 0853-21-6979
A11: 実施機関名 | E11: ○○医院
A13: 《健診時の状況》
A14: 健診実施日 | E14: 身長 | I14: 体重 | N14: 腹囲 | R14: BMI | V14: 血圧
A15: 46235 | E15: 174.5 | G15: cm | I15: 88 | L15: kg | N15: 96 | Q15: cm | R15: =I15/(E15/100)^2 -> 28.899599 | V15: 142 | W15: ／ | X15: 77 | Z15: mmHg
A17: 《評価》
A18: 評価実施日 | E18: 46365
A19: 計測値 | F19: 体重 ※記載必須 | M19: 腹囲 ※記載必須 | R19: BMI | V19: 血圧
F20: 85.2 | J20: kg | M20: 93.5 | P20: cm | R20: =F20/(E15/100)^2 -> 27.980066 | V20: 122 | W20: ／ | X20: 79 | Z20: ㎜Hg
A21: 生活改善状況 | B21: 栄養・食生活 | F21: ご飯の量を減らした(１杯200ｇ)。 毎食の野菜摂取を増やした。 間食は１日１回にしていたが最近２回に増えている。
B24: 【 | C24: 改善 | E24: 】
B26: 身体活動・運動 | F26: ウオーキングの実行(30分間、週２回) スイミングに週１回通っている。
B29: 【 | C29: 改善 | E29: 】
B31: 喫煙
B33: 【 | C33: 非喫煙 | E33: 】
A37: 指導者コメント | B37: 3か月間真面目に取り組まれました。 自ら改善項目を増やすなど努力され、体重、腹囲ともに減少しました。 今の生活習慣を今後も継続していってください。
A44: 指導者名・職種 | F44: 島根 太郎 | P44: ・ | Q44: （ | R44: 医師 | U44: ）
A46: 面接時の状況等市への連絡事項
