Workbook

Sheet (初)市提出用・実施機関保管用様式
AC2: 出雲市（320036）
A3: 【出雲市国民健康保険】 | Y3: 実施機関保管用／市提出用
A4: 特定保健指導 【積極的支援】 初回面接記録票
A5: 氏 名 | S5: 性別 | U5: 生年月日 | AC5: （ | AE5: 歳）
A7: 住 所 | E7: 出雲市
A8: 電話番号
A9: 実施機関名
A10: ◆実績評価体系、介入方法の計画
A11: アウトカム評価 | B11: 内容 | J11: ポイント基準 | O11: ポイント | S11: プロセス評価 | T11: 内容 | Z11: ポイント基準 | AC11: 回数 | AE11: ポイント
B12: (健診時から）-２kg・-２ｃｍ達成 ※ | J12: 180 P | R12: P | T12: 個別（ICT含む） | Z12: 1回70 P （最低10分以上） | AD12: 回 | AE12: =_xlfn.IFS(AC12="","",AC12=1,70,AC12=2,140,AC12=3,210) | AF12: P
B13: (健診時から）-１kg・-１ｃｍ達成 | J13: 20 Ｐ | R13: P | T13: グループ（ICT含む） | Z13: 1回70 P （最低40分以上） | AD13: 回 | AE13: =_xlfn.IFS(AC13="","",AC13=1,70,AC13=2,140,AC13=3,210) | AF13: P
B14: 行動変容 | E14: 食事 | J14: 20 Ｐ | R14: P | T14: 電話 | Z14: 1回30 P （最低5分以上） | AD14: 回 | AE14: =_xlfn.IFS(AC14="","",AC14=1,30,AC14=2,60,AC14=3,90,AC14=4,120,AC14=5,150) | AF14: P
E15: 運動 | J15: 20 Ｐ | R15: P | T15: メール、手紙 | Z15: 1往復30 P | AD15: 回 | AE15: =_xlfn.IFS(AC15="","",AC15=1,30,AC15=2,60,AC15=3,90,AC15=4,120,AC15=5,150) | AF15: P
E16: 禁煙 | J16: 30 P | R16: P | T16: 健診当日の初回面接 | Z16: 20 P | AD16: 回 | AE16: =IF(AC16=1,20,"") | AF16: P
E17: 休養 | J17: 20 Ｐ | R17: P | T17: 健診1週間以内の初回面接 | Z17: 10 P | AD17: 回 | AE17: =IF(AC17=1,10,"") | AF17: P
E18: その他 （血圧、飲酒など） | J18: 20 Ｐ | R18: P | S18: 計画ポイント合計 | Z18: =IF(SUM(O12:Q18,AE12:AE17)=0,"",SUM(O12:Q18,AE12:AE17)) | AF18: P
B19: ※当該年度の健診時の体重の値に、0.024 を乗じた体重（kg）以上かつ同体重（kg）と同じ値の腹囲（cm）以上減少している場合も可
A20: ≪健診時の状況≫
A21: 健診実施日 | F21: 身長 | K21: 体重 | Q21: 腹囲 | V21: ＢＭＩ | Z21: 血圧
J22: cm | O22: kg | T22: cm | V22: =IFERROR(K22/(F22/100)^2,"") | AC22: ／ | AE22: mmHg
A24: ≪初回面接時の状況≫ | K24: ポイント加算 | R24: =IF(AND(ISNUMBER(A22),ISNUMBER(F25),A22=F25),"☑","□") -> □ | S24: 健診当日 20P | X24: =IF(AND(F25>A22,F25<=A22+7),"☑","□") -> □ | Y24: 健診1週間以内 10P
A25: 面接実施日 | Q25: 支援時間 | Z25: 分
A26: 面接時の計測値（任意） | F26: 身長 | K26: 体重 | Q26: 腹囲 | V26: ＢＭＩ | Z26: 血圧
J27: cm | O27: kg | T27: cm | V27: =IFERROR(K27/(F27/100)^2,"") | AC27: ／ | AE27: mmHg
A28: 行動変容ステージ | J28: □ | K28: 無関心期 | O28: □ | P28: 関心期 | S28: □ | T28: 準備期 | W28: □ | X28: 実行期 | Z28: □ | AA28: 維持期
A29: 生活状況 | B29: 【食生活】 | T29: 改善ポイント・行動目標等 | U29: □ | V29: 食生活
U32: □ | V32: 運動
B33: 【身体活動】
U35: □ | V35: 喫煙・休養
B37: 【その他（喫煙、飲酒など）】
U38: □ | V38: その他
A42: 指導者名・職種 | T42: ・ | V42: （ | AA42: ）
A44: 面接時の状況等市への連絡事項

Sheet (初)利用者控え
AC2: 出雲市（320036）
A3: 【出雲市国民健康保険】 | Y3: 利用者控
A4: 特定保健指導 【積極的支援】 初回面接記録票
A5: 氏 名 | E5: ='(初)市提出用・実施機関保管用様式'!E5 -> 0 | S5: 性別 | U5: 生年月日 | X5: ='(初)市提出用・実施機関保管用様式'!X5 -> 0 | AC5: （ | AD5: ='(初)市提出用・実施機関保管用様式'!AD5 -> 0 | AE5: 歳）
S6: ='(初)市提出用・実施機関保管用様式'!S6 -> 0
A7: 住 所 | E7: 出雲市 | H7: ='(初)市提出用・実施機関保管用様式'!H7 -> 0
A8: 電話番号 | E8: ='(初)市提出用・実施機関保管用様式'!E8 -> 0
A9: 実施機関名 | E9: ='(初)市提出用・実施機関保管用様式'!E9 -> 0
A10: ◆実績評価体系、介入方法の計画
A11: アウトカム評価 | B11: 内容 | J11: ポイント基準 | O11: ポイント | S11: プロセス評価 | T11: 内容 | Z11: ポイント基準 | AC11: 回数 | AE11: ポイント
B12: (健診時から）-２kg・-２ｃｍ達成 ※ | J12: 180 P | O12: ='(初)市提出用・実施機関保管用様式'!O12 -> 0 | R12: P | T12: 個別（ICT含む） | Z12: 1回70 P （最低10分以上） | AC12: ='(初)市提出用・実施機関保管用様式'!AC12 -> 0 | AD12: 回 | AE12: {=_xlfn.ANCHORARRAY('(初)市提出用・実施機関保管用様式'!AE12)} | AF12: P
B13: (健診時から）-１kg・-１ｃｍ達成 | J13: 20 Ｐ | O13: ='(初)市提出用・実施機関保管用様式'!O13 -> 0 | R13: P | T13: グループ（ICT含む） | Z13: 1回70 P （最低40分以上） | AC13: ='(初)市提出用・実施機関保管用様式'!AC13 -> 0 | AD13: 回 | AE13: {=_xlfn.ANCHORARRAY('(初)市提出用・実施機関保管用様式'!AE13)} | AF13: P
B14: 行動変容 | E14: 食事 | J14: 20 Ｐ | O14: ='(初)市提出用・実施機関保管用様式'!O14 -> 0 | R14: P | T14: 電話 | Z14: 1回30 P （最低5分以上） | AC14: ='(初)市提出用・実施機関保管用様式'!AC14 -> 0 | AD14: 回 | AE14: {=_xlfn.ANCHORARRAY('(初)市提出用・実施機関保管用様式'!AE14)} | AF14: P
E15: 運動 | J15: 20 Ｐ | O15: ='(初)市提出用・実施機関保管用様式'!O15 -> 0 | R15: P | T15: メール、手紙 | Z15: 1往復30 P | AC15: ='(初)市提出用・実施機関保管用様式'!AC15 -> 0 | AD15: 回 | AE15: {=_xlfn.ANCHORARRAY('(初)市提出用・実施機関保管用様式'!AE15)} | AF15: P
E16: 禁煙 | J16: 30 P | O16: ='(初)市提出用・実施機関保管用様式'!O16 -> 0 | R16: P | T16: 健診当日の初回面接 | Z16: 20 P | AC16: ='(初)市提出用・実施機関保管用様式'!AC16 -> 0 | AD16: 回 | AE16: {=_xlfn.ANCHORARRAY('(初)市提出用・実施機関保管用様式'!AE16)} | AF16: P
E17: 休養 | J17: 20 Ｐ | O17: ='(初)市提出用・実施機関保管用様式'!O17 -> 0 | R17: P | T17: 健診1週間以内の初回面接 | Z17: 10 P | AC17: ='(初)市提出用・実施機関保管用様式'!AC17 -> 0 | AD17: 回 | AE17: {=_xlfn.ANCHORARRAY('(初)市提出用・実施機関保管用様式'!AE17)} | AF17: P
E18: その他 （血圧、飲酒など） | J18: 20 Ｐ | O18: ='(初)市提出用・実施機関保管用様式'!O18 -> 0 | R18: P | S18: 計画ポイント合計 | Z18: =IF(SUM(O12:Q18,AE12:AE17)=0,"",SUM(O12:Q18,AE12:AE17)) | AF18: P
B19: ※当該年度の健診時の体重の値に、0.024 を乗じた体重（kg）以上かつ同体重（kg）と同じ値の腹囲（cm）以上減少している場合も可
A20: ≪健診時の状況≫
A21: 健診実施日 | F21: 身長 | K21: 体重 | Q21: 腹囲 | V21: ＢＭＩ | Z21: 血圧
A22: ='(初)市提出用・実施機関保管用様式'!A22 -> 0 | F22: ='(初)市提出用・実施機関保管用様式'!F22 -> 0 | J22: cm | K22: ='(初)市提出用・実施機関保管用様式'!K22 -> 0 | O22: kg | Q22: ='(初)市提出用・実施機関保管用様式'!Q22 -> 0 | T22: cm | V22: ='(初)市提出用・実施機関保管用様式'!V22 | AA22: ='(初)市提出用・実施機関保管用様式'!AA22 -> 0 | AC22: ／ | AD22: ='(初)市提出用・実施機関保管用様式'!AD22 -> 0 | AE22: mmHg
A24: ≪初回面接時の状況≫ | K24: ポイント加算 | R24: ='(初)市提出用・実施機関保管用様式'!R24 -> □ | S24: 健診当日 20P | X24: ='(初)市提出用・実施機関保管用様式'!X24 -> □ | Y24: 健診1週間以内 10P
A25: 面接実施日 | F25: ='(初)市提出用・実施機関保管用様式'!F25 -> 0 | Q25: 支援時間 | X25: ='(初)市提出用・実施機関保管用様式'!X25 -> 0 | Z25: 分
A26: 面接時の計測値（任意） | F26: 身長 | K26: 体重 | Q26: 腹囲 | V26: ＢＭＩ | Z26: 血圧
F27: ='(初)市提出用・実施機関保管用様式'!F27 -> 0 | J27: cm | K27: ='(初)市提出用・実施機関保管用様式'!K27 -> 0 | O27: kg | Q27: ='(初)市提出用・実施機関保管用様式'!Q27 -> 0 | T27: cm | V27: ='(初)市提出用・実施機関保管用様式'!V27 | AA27: ='(初)市提出用・実施機関保管用様式'!Z27 -> 0 | AC27: ／ | AD27: ='(初)市提出用・実施機関保管用様式'!AD27 -> 0 | AE27: mmHg
A28: 行動変容ステージ | J28: ='(初)市提出用・実施機関保管用様式'!J28 -> □ | K28: 無関心期 | O28: ='(初)市提出用・実施機関保管用様式'!O28 -> □ | P28: 関心期 | S28: ='(初)市提出用・実施機関保管用様式'!S28 -> □ | T28: 準備期 | W28: ='(初)市提出用・実施機関保管用様式'!W28 -> □ | X28: 実行期 | Z28: ='(初)市提出用・実施機関保管用様式'!Z28 -> □ | AA28: 維持期
A29: 生活状況 | B29: 【食生活】 | T29: 改善ポイント・行動目標等 | U29: ='(初)市提出用・実施機関保管用様式'!U29 -> □ | V29: 食生活
B30: ='(初)市提出用・実施機関保管用様式'!B30 -> 0 | U30: ='(初)市提出用・実施機関保管用様式'!U30 -> 0
U32: ='(初)市提出用・実施機関保管用様式'!U32 -> □ | V32: 運動
B33: 【身体活動】 | U33: ='(初)市提出用・実施機関保管用様式'!U33 -> 0
B34: ='(初)市提出用・実施機関保管用様式'!B34 -> 0
U35: ='(初)市提出用・実施機関保管用様式'!U35 -> □ | V35: 喫煙・休養
U36: ='(初)市提出用・実施機関保管用様式'!U36 -> 0
B37: 【その他（喫煙、飲酒など）】
B38: ='(初)市提出用・実施機関保管用様式'!B38 -> 0 | U38: ='(初)市提出用・実施機関保管用様式'!U38 -> □ | V38: その他
U39: ='(初)市提出用・実施機関保管用様式'!U39 -> 0
A42: 指導者名・職種 | J42: ='(初)市提出用・実施機関保管用様式'!J42 -> 0 | T42: ・ | V42: （ | W42: ='(初)市提出用・実施機関保管用様式'!W42 -> 0 | AA42: ）

Sheet (初)記入例
AC2: 出雲市（320036）
A3: 【出雲市国民健康保険】 | Y3: 実施機関保管用／市提出用
A4: 特定保健指導 【積極的支援】 初回面接記録票
A5: 氏 名 | E5: 出雲 花子 | S5: 性別 | U5: 生年月日 | X5: 27485 | AC5: （ | AD5: =DATEDIF(X5,$F$25,"Y") -> 51 | AE5: 歳）
S6: 女
A7: 住 所 | E7: 出雲市 | H7: 今市町７０番地
A8: 電話番号 | E8: ０８５３－２１－６９７９
A9: 実施機関名 | E9: ○○医院
A10: ◆実績評価体系、介入方法の計画
A11: アウトカム評価 | B11: 内容 | J11: ポイント基準 | O11: ポイント | S11: プロセス評価 | T11: 内容 | Z11: ポイント基準 | AC11: 回数 | AE11: ポイント
B12: (健診時から）-２kg・-２ｃｍ達成 ※ | J12: 180 P | R12: P | T12: 個別（ICT含む） | Z12: 1回70 P （最低10分以上） | AC12: 1 | AD12: 回 | AE12: =_xlfn.IFS(AC12="","",AC12=1,70,AC12=2,140,AC12=3,210) -> 70 | AF12: P
B13: (健診時から）-１kg・-１ｃｍ達成 | J13: 20 Ｐ | O13: 20 | R13: P | T13: グループ（ICT含む） | Z13: 1回70 P （最低40分以上） | AD13: 回 | AE13: =_xlfn.IFS(AC13="","",AC13=1,70,AC13=2,140,AC13=3,210) | AF13: P
B14: 行動変容 | E14: 食事 | J14: 20 Ｐ | O14: 20 | R14: P | T14: 電話 | Z14: 1回30 P （最低5分以上） | AC14: 2 | AD14: 回 | AE14: =_xlfn.IFS(AC14="","",AC14=1,30,AC14=2,60,AC14=3,90,AC14=4,120,AC14=5,150) -> 60 | AF14: P
E15: 運動 | J15: 20 Ｐ | O15: 20 | R15: P | T15: メール、手紙 | Z15: 1往復30 P | AD15: 回 | AE15: =_xlfn.IFS(AC15="","",AC15=1,30,AC15=2,60,AC15=3,90,AC15=4,120,AC15=5,150) | AF15: P
E16: 禁煙 | J16: 30 P | R16: P | T16: 健診当日の初回面接 | Z16: 20 P | AD16: 回 | AE16: =IF(AC16=1,20,"") | AF16: P
E17: 休養 | J17: 20 Ｐ | R17: P | T17: 健診1週間以内の初回面接 | Z17: 10 P | AC17: 1 | AD17: 回 | AE17: =IF(AC17=1,10,"") -> 10 | AF17: P
E18: その他 （血圧、飲酒など） | J18: 20 Ｐ | R18: P | S18: 計画ポイント合計 | Z18: =IF(SUM(O12:Q18,AE12:AE17)=0,"",SUM(O12:Q18,AE12:AE17)) -> 200 | AF18: P
B19: ※当該年度の健診時の体重の値に、0.024 を乗じた体重（kg）以上かつ同体重（kg）と同じ値の腹囲（cm）以上減少している場合も可
A20: ≪健診時の状況≫
A21: 健診実施日 | F21: 身長 | K21: 体重 | Q21: 腹囲 | V21: ＢＭＩ | Z21: 血圧
A22: 46235 | F22: 158 | J22: cm | K22: 65 | O22: kg | Q22: 90 | T22: cm | V22: =K22/(F22/100)^2 -> 26.037494 | AA22: 140 | AC22: ／ | AD22: 90 | AE22: mmHg
A24: ≪初回面接時の状況≫ | K24: ポイント加算 | R24: =IF(AND(ISNUMBER(A22),ISNUMBER(F25),A22=F25),"☑","□") -> □ | S24: 健診当日 20P | X24: =IF(AND(F25>A22,F25<=A22+7),"☑","□") -> ☑ | Y24: 健診1週間以内 10P
A25: 面接実施日 | F25: 46238 | Q25: 支援時間 | X25: 30 | Z25: 分
A26: 面接時の計測値（任意） | F26: 身長 | K26: 体重 | Q26: 腹囲 | V26: ＢＭＩ | Z26: 血圧
F27: 158 | J27: cm | K27: 64.5 | O27: kg | Q27: 89 | T27: cm | V27: =K27/(F27/100)^2 -> 25.837206 | AA27: 135 | AC27: ／ | AD27: 88 | AE27: mmHg
A28: 行動変容ステージ | J28: □ | K28: 無関心期 | O28: □ | P28: 関心期 | S28: ☑ | T28: 準備期 | W28: □ | X28: 実行期 | Z28: □ | AA28: 維持期
A29: 生活状況 | B29: 【食生活】 | T29: 改善ポイント・行動目標等 | U29: ☑ | V29: 食生活
B30: 甘い物が好きで間食量が多い。午前、午後、夕食後にお菓子を食べる。 好き嫌いはないが、野菜はあまり食べていない。 早食いなのでつい食べ過ぎる。 | U30: 間食は1日２００kcalまでにする。夕食後の間食はやめる。 毎食野菜を食べるようにする。 よく噛んでゆっくり食べる。
U32: ☑ | V32: 運動
B33: 【身体活動】 | U33: 毎朝ラジオ体操をする。
B34: 決まった運動はしていない。 家事で体を動かす程度。
U35: ☑ | V35: 喫煙・休養
U36: 週2日は休肝日にする。
B37: 【その他（喫煙、飲酒など）】
B38: 体重、血圧は時々はかる。飲酒週７回ビール３５０ｍｌ。喫煙なし。 | U38: ☑ | V38: その他
U39: 毎日体重と血圧を測定し記録する。
A42: 指導者名・職種 | J42: 島根 太郎 | T42: ・ | V42: （ | W42: 医師 | AA42: ）
A44: 面接時の状況等市への連絡事項

Sheet (継)実施機関保管用 ・市提出用
Y1: 出雲市（320036）
A2: 【出雲市国民健康保険】 | U2: 実施機関保管用／市提出用
A3: 特定保健指導 【積極的支援】 継続支援記録票
A4: 氏 名 | N4: 性別 | Q4: 生年月日 | Y4: （ | AA4: 歳）
A6: 住 所 | E6: 出雲市
A7: 電話番号
A8: 実施機関名
A10: 《継続支援 1 回目》
A11: 実施年月日 | K11: 指導者名・職種 | W11: ・ | X11: （ | AB11: ）
A12: 計測値 （計測した場合のみ） | D12: 体重 | I12: kg | K12: 腹囲 | Q12: cm | U12: 血圧 | Y12: ／ | AA12: mmHg
A13: 支援形態 | K13: ポイント加算 | X13: 分 | AA13: P
A14: 【生活習慣の改善状況】 | N14: 【指導内容】
A17: 《継続支援 2 回目》
A18: 実施年月日 | K18: 指導者名・職種 | W18: ・ | X18: （ | AB18: ）
A19: 計測値 （計測した場合のみ） | D19: 体重 | I19: kg | K19: 腹囲 | Q19: cm | U19: 血圧 | Y19: ／ | AA19: mmHg
A20: 支援形態 | K20: ポイント加算 | X20: 分 | AA20: P
A21: 【生活習慣の改善状況】 | N21: 【指導内容】
A24: 《継続支援 回目》
A25: 実施年月日 | K25: 指導者名・職種 | W25: ・ | X25: （ | AB25: ）
A26: 計測値 （計測した場合のみ） | D26: 体重 | I26: kg | K26: 腹囲 | Q26: cm | U26: 血圧 | Y26: ／ | AA26: mmHg
A27: 支援形態 | K27: ポイント加算 | X27: 分 | AA27: P
A28: 【生活習慣の改善状況】 | N28: 【指導内容】

Sheet (継)記入例
Y1: 出雲市（320036）
A2: 【出雲市国民健康保険】 | U2: 実施機関保管用／市提出用
A3: 特定保健指導 【積極的支援】 継続支援記録票
A4: 氏 名 | E4: 出雲 花子 | N4: 性別 | Q4: 生年月日 | U4: 27485 | Y4: （ | Z4: =DATEDIF(U4,$D$11,"Y") -> 51 | AA4: 歳）
N5: 女
A6: 住 所 | E6: 出雲市 | G6: 今市町70番地
A7: 電話番号 | E7: 0853-21-6979
A8: 実施機関名 | E8: ○○医院
A10: 《継続支援 1 回目》
A11: 実施年月日 | D11: 46259 | K11: 指導者名・職種 | O11: 島根 太郎 | W11: ・ | X11: （ | Y11: 医師 | AA11: ）
A12: 計測値 （計測した場合のみ） | D12: 体重 | I12: kg | K12: 腹囲 | Q12: cm | U12: 血圧 | Y12: ／ | AA12: mmHg
A13: 支援形態 | D13: 電話 | K13: ポイント加算 | U13: 10 | X13: 分 | Y13: 30 | AA13: P
A14: 【生活習慣の改善状況】 | N14: 【指導内容】
A15: 夕食後の間食だけはやめるようになった。 ラジオ体操を始めた。毎日ではないが時々実施している。 週1日はお酒をやめている。 | N15: 生活習慣改善への取組を称賛し、継続を促した。 間食について、買い物の際にカロリー表示を見る習慣をつけるよう助言した。
A17: 《継続支援 2 回目》
A18: 実施年月日 | D18: 46283 | K18: 指導者名・職種 | O18: 島根 友子 | W18: ・ | X18: （ | Y18: 保健師 | AA18: ）
A19: 計測値 （計測した場合のみ） | D19: 体重 | G19: 64 | I19: kg | K19: 腹囲 | N19: 89 | Q19: cm | U19: 血圧 | X19: 138 | Y19: ／ | Z19: 88 | AA19: mmHg
A20: 支援形態 | D20: 個別面接 | K20: ポイント加算 | U20: 30 | X20: 分 | Y20: 70 | AA20: P
A21: 【生活習慣の改善状況】 | N21: 【指導内容】
A22: カロリー表示を見て、高カロリーのお菓子は買わないようにしている。 野菜を多く食べるようにしている。 ラジオ体操は最近やっていない。 体重は毎日はかっている。 休肝日を週2日に増やしたいと思っている。 | N22: 取組を継続できていることを称賛した。 終了に向け、取組を継続しましょう。
A24: 《継続支援 回目》
A25: 実施年月日 | K25: 指導者名・職種 | W25: ・ | X25: （ | AA25: ）
A26: 計測値 （計測した場合のみ） | D26: 体重 | I26: kg | K26: 腹囲 | Q26: cm | U26: 血圧 | Y26: ／ | AA26: mmHg
A27: 支援形態 | K27: ポイント加算 | X27: 分 | AA27: P
A28: 【生活習慣の改善状況】 | N28: 【指導内容】

Sheet (評)実施機関保管用 ・市提出用
T1: 出雲市（320036）
A2: 【出雲市国民健康保険】 | R2: 実施機関保管用／市提出用
A3: 特定保健指導【積極的支援】 評価票
A4: 氏 名 | M4: 性別 | P4: 生年月日 | W4: （ | Z4: 歳）
A7: 住 所 | E7: 出雲市
A8: 電話番号
A9: 実施機関名
A10: 《健診時の状況》
A11: 健診実施日 | E11: 身長 | I11: 体重 | N11: 腹囲 | R11: BMI | V11: 血圧
G12: cm | L12: kg | Q12: cm | R12: =IFERROR(I12/(E12/100)^2,"") | W12: ／ | Z12: mmHg
A13: 《評価》
A14: 評価実施日 | K14: 支援形態 | S14: ポイント加算 | W14: 分 | Z14: Ｐ
A15: 計測値 | F15: 体重 ※記載必須 | M15: 腹囲 ※記載必須 | R15: BMI | V15: 血圧
J16: kg | P16: cm | R16: =IFERROR(F16/(E12/100)^2,"") | W16: ／ | Z16: ㎜Hg
A17: 生活改善状況 | B17: 栄養・食生活 | Q17: 指導者コメント
B20: 【 | E20: 】
B22: 身体活動・運動
B25: 【 | E25: 】
B27: 喫煙
B28: 【 | E28: 】
B30: その他
A31: 指導者名・職種 | S31: ・ | T31: （ | X31: ）
A33: ポイント集計
A34: 【初回面接時】 | Z34: P
A35: 【プロセス評価】 | Z35: P
A36: 【アウトカム評価】 | F36: □ | G36: (健診時から） - ２kg・- ２ｃｍ達成 | Z36: P
G38: ※当該年度の健診時の体重の値に、0.024 を乗じた体重（kg）以上かつ、 同体重（kg）と同じ値の腹囲（cm）以上、減少している場合も可
F39: □ | G39: (健診時から） - 1kg・- 1ｃｍ達成 | Z39: P
F41: □ | G41: 行動変容 | Z41: P
G42: □ | I42: 食事 | K42: □ | L42: 運動 | O42: □ | P42: 禁煙 | R42: □ | S42: 休養
G43: □ | I43: その他 | K43: （ | V43: ）
A44: 合計 | W44: =SUM(W34:Y43) -> 0 | Z44: P
A46: 面接時の状況等市への連絡事項

Sheet (評)利用者控え
T1: 出雲市（320036）
A2: 【出雲市国民健康保険】 | R2: 利用者控
A3: 特定保健指導【積極的支援】 評価票
A4: 氏 名 | E4: ='(評)実施機関保管用 ・市提出用'!E4 -> 0 | M4: 性別 | P4: 生年月日 | R4: ='(評)実施機関保管用 ・市提出用'!R4 -> 0 | W4: （ | X4: ='(評)実施機関保管用 ・市提出用'!X4 -> 0 | Z4: 歳）
M5: ='(評)実施機関保管用 ・市提出用'!M5 -> 0
A7: 住 所 | E7: 出雲市 | G7: ='(評)実施機関保管用 ・市提出用'!G7 -> 0
A8: 電話番号 | E8: ='(評)実施機関保管用 ・市提出用'!E8 -> 0
A9: 実施機関名 | E9: ='(評)実施機関保管用 ・市提出用'!E9 -> 0
A10: 《健診時の状況》
A11: 健診実施日 | E11: 身長 | I11: 体重 | N11: 腹囲 | R11: BMI | V11: 血圧
A12: ='(評)実施機関保管用 ・市提出用'!A12 -> 0 | E12: ='(評)実施機関保管用 ・市提出用'!E12 -> 0 | G12: cm | I12: ='(評)実施機関保管用 ・市提出用'!I12 -> 0 | L12: kg | N12: ='(評)実施機関保管用 ・市提出用'!N12 -> 0 | Q12: cm | R12: ='(評)実施機関保管用 ・市提出用'!R12 | V12: ='(評)実施機関保管用 ・市提出用'!V12 -> 0 | W12: ／ | X12: ='(評)実施機関保管用 ・市提出用'!X12 -> 0 | Z12: mmHg
A13: 《評価》
A14: 評価実施日 | E14: ='(評)実施機関保管用 ・市提出用'!E14 -> 0 | K14: 支援形態 | P14: ='(評)実施機関保管用 ・市提出用'!P14 -> 0 | S14: ポイント加算 | V14: ='(評)実施機関保管用 ・市提出用'!V14 -> 0 | W14: 分 | X14: ='(評)実施機関保管用 ・市提出用'!X14 -> 0 | Z14: Ｐ
A15: 計測値 | F15: 体重 ※記載必須 | M15: 腹囲 ※記載必須 | R15: BMI | V15: 血圧
F16: ='(評)実施機関保管用 ・市提出用'!F16 -> 0 | J16: kg | M16: ='(評)実施機関保管用 ・市提出用'!M16 -> 0 | P16: cm | R16: ='(評)実施機関保管用 ・市提出用'!R16 | V16: ='(評)実施機関保管用 ・市提出用'!V16 -> 0 | W16: ／ | X16: ='(評)実施機関保管用 ・市提出用'!X16 -> 0 | Z16: ㎜Hg
A17: 生活改善状況 | B17: 栄養・食生活 | F17: ='(評)実施機関保管用 ・市提出用'!F17 -> 0 | Q17: 指導者コメント | R17: ='(評)実施機関保管用 ・市提出用'!R17 -> 0
B20: 【 | C20: ='(評)実施機関保管用 ・市提出用'!C20 -> 0 | E20: 】
B22: 身体活動・運動 | F22: ='(評)実施機関保管用 ・市提出用'!F22 -> 0
B25: 【 | C25: ='(評)実施機関保管用 ・市提出用'!C25 -> 0 | E25: 】
B27: 喫煙 | F27: ='(評)実施機関保管用 ・市提出用'!F27 -> 0
B28: 【 | C28: ='(評)実施機関保管用 ・市提出用'!C28 -> 0 | E28: 】
B30: その他 | F30: ='(評)実施機関保管用 ・市提出用'!F30 -> 0
A31: 指導者名・職種 | J31: ='(評)実施機関保管用 ・市提出用'!J31 -> 0 | S31: ・ | T31: （ | U31: ='(評)実施機関保管用 ・市提出用'!U31 -> 0 | X31: ）
A33: ポイント集計
A34: 【初回面接時】 | W34: ='(評)実施機関保管用 ・市提出用'!W34 -> 0 | Z34: P
A35: 【プロセス評価】 | W35: ='(評)実施機関保管用 ・市提出用'!W35 -> 0 | Z35: P
A36: 【アウトカム評価】 | F36: ='(評)実施機関保管用 ・市提出用'!F36 -> □ | G36: (健診時から） - ２kg・- ２ｃｍ達成 | W36: ='(評)実施機関保管用 ・市提出用'!W36 -> 0 | Z36: P
G38: ※当該年度の健診時の体重の値に、0.024 を乗じた体重（kg）以上かつ、 同体重（kg）と同じ値の腹囲（cm）以上、減少している場合も可
F39: ='(評)実施機関保管用 ・市提出用'!F39 -> □ | G39: (健診時から） - 1kg・- 1ｃｍ達成 | W39: ='(評)実施機関保管用 ・市提出用'!W39 -> 0 | Z39: P
F41: ='(評)実施機関保管用 ・市提出用'!F41 -> □ | G41: 行動変容 | W41: ='(評)実施機関保管用 ・市提出用'!W41 -> 0 | Z41: P
G42: ='(評)実施機関保管用 ・市提出用'!G42 -> □ | I42: 食事 | K42: ='(評)実施機関保管用 ・市提出用'!K42 -> □ | L42: 運動 | O42: ='(評)実施機関保管用 ・市提出用'!O42 -> □ | P42: 禁煙 | R42: ='(評)実施機関保管用 ・市提出用'!R42 -> □ | S42: 休養
G43: ='(評)実施機関保管用 ・市提出用'!G43 -> □ | I43: その他 | K43: （ | L43: ='(評)実施機関保管用 ・市提出用'!L43 -> 0 | V43: ）
A44: 合計 | W44: ='(評)実施機関保管用 ・市提出用'!W44 -> 0 | Z44: P

Sheet (評)記入例
T1: 出雲市（320036）
A2: 【出雲市国民健康保険】 | R2: 実施機関保管用／市提出用
A3: 特定保健指導【積極的支援】 評価票
A4: 氏 名 | E4: 出雲 花子 | M4: 性別 | P4: 生年月日 | R4: 27485 | W4: （ | X4: =DATEDIF(R4,$E$14,"Y") -> 51 | Z4: 歳）
M5: 女
A7: 住 所 | E7: 出雲市 | G7: 今市町70番地
A8: 電話番号 | E8: 0853-21-6979
A9: 実施機関名 | E9: ○○医院
A10: 《健診時の状況》
A11: 健診実施日 | E11: 身長 | I11: 体重 | N11: 腹囲 | R11: BMI | V11: 血圧
A12: 46235 | E12: 158 | G12: cm | I12: 65 | L12: kg | N12: 90 | Q12: cm | R12: =I12/(E12/100)^2 -> 26.037494 | V12: 140 | W12: ／ | X12: 90 | Z12: mmHg
A13: 《評価》
A14: 評価実施日 | E14: 46332 | K14: 支援形態 | P14: 個別面接 | S14: ポイント加算 | V14: 30 | W14: 分 | X14: 60 | Z14: Ｐ
A15: 計測値 | F15: 体重 ※記載必須 | M15: 腹囲 ※記載必須 | R15: BMI | V15: 血圧
F16: 64 | J16: kg | M16: 88.5 | P16: cm | R16: =F16/(E12/100)^2 -> 25.636917 | V16: 135 | W16: ／ | X16: 85 | Z16: ㎜Hg
A17: 生活改善状況 | B17: 栄養・食生活 | F17: 間食を1日1回にした。 カロリー表示を見て200kcal以内にしている。 毎食野菜を食べるようになった。 | Q17: 指導者コメント | R17: 3か月間、生活習慣改善に取り組まれ、 体重、腹囲ともに減少しました。 これからも健康のために出来ることを続けていきましょう。
B20: 【 | C20: 改善 | E20: 】
B22: 身体活動・運動 | F22: ラジオ体操は挫折してしまった。 運動はできていない。 家事で体を動かす程度。
B25: 【 | C25: 変化なし | E25: 】
B27: 喫煙
B28: 【 | C28: 非喫煙 | E28: 】
B30: その他 | F30: 時々体重と血圧測定をしている。 週に2日、休肝日を設けるようになった。
A31: 指導者名・職種 | J31: 島根 太郎 | S31: ・ | T31: （ | U31: 医師 | X31: ）
A33: ポイント集計
A34: 【初回面接時】 | Z34: P
A35: 【プロセス評価】 | W35: 170 | Z35: P
A36: 【アウトカム評価】 | F36: □ | G36: (健診時から） - ２kg・- ２ｃｍ達成 | Z36: P
G38: ※当該年度の健診時の体重の値に、0.024 を乗じた体重（kg）以上かつ、 同体重（kg）と同じ値の腹囲（cm）以上、減少している場合も可
F39: □ | G39: (健診時から） - 1kg・- 1ｃｍ達成 | Z39: P
F41: ☑ | G41: 行動変容 | W41: 40 | Z41: P
G42: ☑ | I42: 食事 | K42: □ | L42: 運動 | O42: □ | P42: 禁煙 | R42: □ | S42: 休養
G43: ☑ | I43: その他 | K43: （ | L43: 休肝日 20p加算した | V43: ）
A44: 合計 | W44: =SUM(W34:Y43) -> 210 | Z44: P
A46: 面接時の状況等市への連絡事項
